BEGIN:VCALENDAR
VERSION:2.0
PRODID:EVENTFROG//EVENT//ICAL
BEGIN:VEVENT
UID:20260422T192016Z-7451730148632616053@eventfrog.at
DTSTAMP:20260422T192016Z
DTSTART:20260502T170000Z
DTEND:20260502T200000Z
SUMMARY:Rain Sultanov - Meditative Musik mit Saxophon und Klavier
DESCRIPTION:Rain Sultanov ist ein aserbaidschanischer Saxophonist. Er ist für seinen tiefen, introspektiven Klang bekannt und wird für seine meditative und ätherische Musik geschätzt.\n\nhttps://eventfrog.at/de/p/konzerte/jazz-blues/rain-sultanov-meditative-musik-mit-saxophon-und-klavier-7451730148632616053.html
LOCATION:Johanneskirche
GEO:51.224512;6.782562
URL:https://eventfrog.at/de/p/konzerte/jazz-blues/rain-sultanov-meditative-musik-mit-saxophon-und-klavier-7451730148632616053.html
END:VEVENT
END:VCALENDAR