BEGIN:VCALENDAR
VERSION:2.0
PRODID:EVENTFROG//EVENT//ICAL
BEGIN:VEVENT
UID:20260420T015901Z-7451728952781964024@eventfrog.at
DTSTAMP:20260420T015901Z
DTSTART:20260510T130000Z
DTEND:20260510T143000Z
SUMMARY:Muttertagsführung "Liebe, Intrigen, Skandale und Affären"
DESCRIPTION:Eine Hundsgräfin, die die Geliebte Napoleons war, eine Mafiabraut, die einen Salzburger heiratet, wie man seinen Mann los wird und wer hinaufgeheiratet hat. Konkubinen, Mozarts Stubenmädeleien, berühm\n\nhttps://eventfrog.at/de/p/fuehrungen-vortraege/fuehrung/muttertagsfuehrung-liebe-intrigen-skandale-und-affaeren-7451728952781964024.html
LOCATION:Durchgang Bruderhof
GEO:47.805139;13.038069
URL:https://eventfrog.at/de/p/fuehrungen-vortraege/fuehrung/muttertagsfuehrung-liebe-intrigen-skandale-und-affaeren-7451728952781964024.html
END:VEVENT
END:VCALENDAR