BEGIN:VCALENDAR
VERSION:2.0
PRODID:EVENTFROG//EVENT//ICAL
BEGIN:VEVENT
UID:20260421T005146Z-7451702115909564983@eventfrog.at
DTSTAMP:20260421T005146Z
DTSTART:20260424T210000Z
DTEND:20260425T040000Z
SUMMARY:YOTO x PRIME TIME w/ MOCUTZ & NA.CHO
DESCRIPTION:MOCUTZ und NA.CHO legen am Freitag ab 23 Uhr im YOTO eine Clubnacht mit 00s Hip-Hop, R’n’B und echten Vibes auf.\n\nhttps://eventfrog.at/de/p/partys/sonstige-partys/yoto-x-prime-time-w-mocutz-na-cho-7451702115909564983.html
LOCATION:Yoto
GEO:53.562347;9.961065
URL:https://eventfrog.at/de/p/partys/sonstige-partys/yoto-x-prime-time-w-mocutz-na-cho-7451702115909564983.html
END:VEVENT
END:VCALENDAR