BEGIN:VCALENDAR
VERSION:2.0
PRODID:EVENTFROG//EVENT//ICAL
BEGIN:VEVENT
UID:20260424T072657Z-7451702082866833544@eventfrog.at
DTSTAMP:20260424T072657Z
DTSTART:20260605T150000Z
DTEND:20260606T210000Z
SUMMARY:RABA RABA Reggae Festival
DESCRIPTION:Roots, Reggae, Dub - Kleines, familiäres Reggae-Festival am Horgenberg.\n\nhttps://eventfrog.at/en/p/festivals/reggae-ska/raba-raba-reggae-festival-7451702082866833544.html
LOCATION:Eichlochhütte
GEO:47.255922;8.583958
URL:https://eventfrog.at/en/p/festivals/reggae-ska/raba-raba-reggae-festival-7451702082866833544.html
END:VEVENT
END:VCALENDAR