BEGIN:VCALENDAR
VERSION:2.0
PRODID:EVENTFROG//EVENT//ICAL
BEGIN:VEVENT
UID:20260423T154743Z-7451695290518634233@eventfrog.at
DTSTAMP:20260423T154743Z
DTSTART:20260614T150000Z
DTEND:20260614T163000Z
SUMMARY:Bach Ensemble Luzern: Bach und Zelenka
DESCRIPTION:Zelenkas Litanei "Salus infirmorum" werden zwei Kantaten von Johann Sebastian Bach gegenüber gestellt\n\nhttps://eventfrog.at/de/p/konzerte/kirchenmusik/bach-ensemble-luzern-bach-und-zelenka-7451695290518634233.html
LOCATION:Franziskanerkirche
GEO:47.049526;8.303737
URL:https://eventfrog.at/de/p/konzerte/kirchenmusik/bach-ensemble-luzern-bach-und-zelenka-7451695290518634233.html
END:VEVENT
END:VCALENDAR