BEGIN:VCALENDAR
VERSION:2.0
PRODID:EVENTFROG//EVENT//ICAL
BEGIN:VEVENT
UID:20260422T191920Z-7451691003805731887@eventfrog.at
DTSTAMP:20260422T191920Z
DTSTART:20261017T170000Z
DTEND:20261017T210000Z
SUMMARY:Adieu Chéri – Krimidinner Bad Mergentheim
DESCRIPTION:Am 17.10. erleben Sie im Landhotel Edelfinger Hof in Bad Mergentheim ein interaktives Krimi-Dinner mit spannenden Enthüllungen.\n\nhttps://eventfrog.at/de/p/theater-buehne/theater/adieu-cheri-krimidinner-bad-mergentheim-7451691003805731887.html
LOCATION:Landhotel Edelfinger Hof - Hotel & Eventmanufaktur GmbH
GEO:49.512346;9.752729
URL:https://eventfrog.at/de/p/theater-buehne/theater/adieu-cheri-krimidinner-bad-mergentheim-7451691003805731887.html
END:VEVENT
END:VCALENDAR