BEGIN:VCALENDAR
VERSION:2.0
PRODID:EVENTFROG//EVENT//ICAL
BEGIN:VEVENT
UID:20260419T234913Z-7451685745268418761@eventfrog.at
DTSTAMP:20260419T234913Z
DTSTART:20260426T120000Z
DTEND:20260426T150000Z
SUMMARY:Vaazha 2 - Saal1, Küchlin - BASEL
DESCRIPTION:Vaazha 2 - Saal1, Küchlin - BASEL  \n\nhttps://eventfrog.at/de/p/theater-buehne/theater/vaazha-2-saal1-kuechlin-basel-7451685745268418761.html
LOCATION:Saal1 Küchlin
GEO:47.552455;7.588402
URL:https://eventfrog.at/de/p/theater-buehne/theater/vaazha-2-saal1-kuechlin-basel-7451685745268418761.html
END:VEVENT
END:VCALENDAR