BEGIN:VCALENDAR
VERSION:2.0
PRODID:EVENTFROG//EVENT//ICAL
BEGIN:VEVENT
UID:20260421T113508Z-7451677547006300640@eventfrog.at
DTSTAMP:20260421T113508Z
DTSTART:20261016T170000Z
DTEND:20261016T210000Z
SUMMARY:Sherlock darf nicht sterben – Krimidinner Wuppertal
DESCRIPTION:Am 16.10.2026 erleben Sie ein interaktives Sherlock-Holmes-Krimi-Dinner mit Menü in der Stadthalle Wuppertal.\n\nhttps://eventfrog.at/de/p/theater-buehne/theater/sherlock-darf-nicht-sterben-krimidinner-wuppertal-7451677547006300640.html
LOCATION:Historische Stadthalle Wuppertal
GEO:51.252910;7.142802
URL:https://eventfrog.at/de/p/theater-buehne/theater/sherlock-darf-nicht-sterben-krimidinner-wuppertal-7451677547006300640.html
END:VEVENT
END:VCALENDAR