BEGIN:VCALENDAR
VERSION:2.0
PRODID:EVENTFROG//EVENT//ICAL
BEGIN:VEVENT
UID:20260420T075829Z-7451672196072660298@eventfrog.at
DTSTAMP:20260420T075829Z
DTSTART:20260502T190000Z
SUMMARY:Beauregard Boys (Bluegrass)
DESCRIPTION:Les Beauregard Boys proposent un concert acoustique mêlant mandoline, banjo et voix harmonisées pour une soirée folk authentique.\n\nhttps://eventfrog.at/fr/p/concerts/folk/beauregard-boys-bluegrass-7451672196072660298.html
LOCATION:Citrons Masqués
GEO:46.780276;6.644449
URL:https://eventfrog.at/fr/p/concerts/folk/beauregard-boys-bluegrass-7451672196072660298.html
END:VEVENT
END:VCALENDAR