BEGIN:VCALENDAR
VERSION:2.0
PRODID:EVENTFROG//EVENT//ICAL
BEGIN:VEVENT
UID:20260423T075542Z-7451666255793126103@eventfrog.at
DTSTAMP:20260423T075542Z
DTSTART:20261010T160000Z
DTEND:20261010T200000Z
SUMMARY:Adel vergiftet – Krimidinner Bremen
DESCRIPTION:Am 10.10.2026 lädt DinnerUniverse zum interaktiven Krimi-Dinner mit Menü und spannendem Mordfall im Bremer Ratskeller ein.\n\nhttps://eventfrog.at/de/p/theater-buehne/theater/adel-vergiftet-krimidinner-bremen-7451666255793126103.html
LOCATION:Ratskeller Bremen
GEO:53.075315;8.805399
URL:https://eventfrog.at/de/p/theater-buehne/theater/adel-vergiftet-krimidinner-bremen-7451666255793126103.html
END:VEVENT
END:VCALENDAR