BEGIN:VCALENDAR
VERSION:2.0
PRODID:EVENTFROG//EVENT//ICAL
BEGIN:VEVENT
UID:20260420T053852Z-7451662394747529458@eventfrog.at
DTSTAMP:20260420T053852Z
DTSTART:20260424T170000Z
SUMMARY:Lesung von Linda Lengler „Die Blase – 153 Tage auf einem Kre
DESCRIPTION:Am 24.4. lädt die Reihe Kultur und Bildung im Rathaus Litzelstetten um 19 Uhr zu einem vergnüglichen Abend hinter die Kulissen eines Kreuzfahrtschiffes ein.\n\nhttps://eventfrog.at/de/p/theater-buehne/lesung/lesung-von-linda-lengler-die-blase-153-tage-auf-einem-kre-7451662394747529458.html
LOCATION:Rathaus Litzelstetten
GEO:47.713359;9.175550
URL:https://eventfrog.at/de/p/theater-buehne/lesung/lesung-von-linda-lengler-die-blase-153-tage-auf-einem-kre-7451662394747529458.html
END:VEVENT
END:VCALENDAR