BEGIN:VCALENDAR
VERSION:2.0
PRODID:EVENTFROG//EVENT//ICAL
BEGIN:VEVENT
UID:20260420T004155Z-7451660676768997561@eventfrog.at
DTSTAMP:20260420T004155Z
DTSTART:20260523T210000Z
DTEND:20260524T013000Z
SUMMARY:La Dinguerie
DESCRIPTION:House all night long at Stellwerk Bern: La Dinguerie with Sexy Kilo & Hamzee. Groovy, disco‑inspired house vibes and a powerful light setup for a glowing dancefloor experience.\n\nhttps://eventfrog.at/de/p/partys/house-techno/la-dinguerie-7451660676768997561.html
LOCATION:Stellwerk
GEO:46.949621;7.438266
URL:https://eventfrog.at/de/p/partys/house-techno/la-dinguerie-7451660676768997561.html
END:VEVENT
END:VCALENDAR