BEGIN:VCALENDAR
VERSION:2.0
PRODID:EVENTFROG//EVENT//ICAL
BEGIN:VEVENT
UID:20260424T095854Z-7451648076870095193@eventfrog.at
DTSTAMP:20260424T095854Z
DTSTART:20270115T193000Z
DTEND:20270115T213000Z
SUMMARY:Gurtner & Schenk mit "Marathon"
DESCRIPTION:«Marathon» nimmt euch mit auf die Laufstrecke. Ohne selbst einen rennen zu müssen, seid ihr mittendrin und lernt vom Startschuss bis zur Ziellinie diverse Personen kennen.\n\nhttps://eventfrog.at/de/p/theater-buehne/comedy-kabarett/gurtner-schenk-mit-marathon-7451648076870095193.html
LOCATION:Alti Moschti
GEO:46.814744;7.513911
URL:https://eventfrog.at/de/p/theater-buehne/comedy-kabarett/gurtner-schenk-mit-marathon-7451648076870095193.html
END:VEVENT
END:VCALENDAR