BEGIN:VCALENDAR
VERSION:2.0
PRODID:EVENTFROG//EVENT//ICAL
BEGIN:VEVENT
UID:20260424T072730Z-7451636597143900922@eventfrog.at
DTSTAMP:20260424T072730Z
DTSTART:20260507T160000Z
DTEND:20260507T180000Z
SUMMARY:Grüngut-Kurs Küttigen (kostenlos)
DESCRIPTION:Gratis-Kurs:  Verwertung von Grüngut im eigenen Garten\n\nhttps://eventfrog.at/de/p/kurse-seminare/sonstige-kurse-seminare/gruengut-kurs-kuettigen-kostenlos-7451636597143900922.html
LOCATION:Grüngutkurs
GEO:47.408804;8.047153
URL:https://eventfrog.at/de/p/kurse-seminare/sonstige-kurse-seminare/gruengut-kurs-kuettigen-kostenlos-7451636597143900922.html
END:VEVENT
END:VCALENDAR