BEGIN:VCALENDAR
VERSION:2.0
PRODID:EVENTFROG//EVENT//ICAL
BEGIN:VEVENT
UID:20260424T211318Z-7451630433664514454@eventfrog.at
DTSTAMP:20260424T211318Z
DTSTART:20260529T173000Z
DTEND:20260529T190000Z
SUMMARY:Musical "Änet dä Möirä"
DESCRIPTION:Das Musical «Änet dä Möirä» der IOS Engelberg lässt uns erkennen, dass der künstlichen Intelligenz ohne die Kraft der Erde die Energie ausgeht.\n\nhttps://eventfrog.at/de/p/musicals-shows/musical/musical-aenet-dae-moeirae-7451630433664514454.html
LOCATION:IOS
GEO:46.819832;8.411841
URL:https://eventfrog.at/de/p/musicals-shows/musical/musical-aenet-dae-moeirae-7451630433664514454.html
END:VEVENT
END:VCALENDAR