BEGIN:VCALENDAR
VERSION:2.0
PRODID:EVENTFROG//EVENT//ICAL
BEGIN:VEVENT
UID:20260424T072657Z-7451628880706729190@eventfrog.at
DTSTAMP:20260424T072657Z
DTSTART:20260507T160000Z
DTEND:20260507T200000Z
SUMMARY:ZÜRI MOVES - ZÜRI TANZT MIT DJ NOX
DESCRIPTION:ZÜRI MOVES - ZÜRI TANZT MIT DJ NOX\n\nhttps://eventfrog.at/de/p/partys/afterwork/zueri-moves-zueri-tanzt-mit-dj-nox-7451628880706729190.html
LOCATION:Moxy Zurich
GEO:47.382380;8.500554
URL:https://eventfrog.at/de/p/partys/afterwork/zueri-moves-zueri-tanzt-mit-dj-nox-7451628880706729190.html
END:VEVENT
END:VCALENDAR