BEGIN:VCALENDAR
VERSION:2.0
PRODID:EVENTFROG//EVENT//ICAL
BEGIN:VEVENT
UID:20260420T000511Z-7451622305568933864@eventfrog.at
DTSTAMP:20260420T000511Z
DTSTART:20260517T080000Z
DTEND:20260517T140000Z
SUMMARY:Museumstag in Untersiggenthal
DESCRIPTION:Der Museumstag zeigt die Ausstellung zur Wasserversorgung und bietet Kinderaktivitäten mit Wasserrad- und Holzschiffchenbau.\n\nhttps://eventfrog.at/de/p/volksfeste/sommerfest/museumstag-in-untersiggenthal-7451622305568933864.html
LOCATION:Ortsmuseum Untersiggenthal
GEO:47.499675;8.264038
URL:https://eventfrog.at/de/p/volksfeste/sommerfest/museumstag-in-untersiggenthal-7451622305568933864.html
END:VEVENT
END:VCALENDAR