BEGIN:VCALENDAR
VERSION:2.0
PRODID:EVENTFROG//EVENT//ICAL
BEGIN:VEVENT
UID:20260422T042959Z-7451593337860030527@eventfrog.at
DTSTAMP:20260422T042959Z
DTSTART:20260920T160000Z
DTEND:20260920T180000Z
SUMMARY:Notte Italiana - Klassik am Sportpark Schollbach
DESCRIPTION:Am 20.9. verzaubern Yvonne Madrid, die Bad Reichenhaller Philharmoniker und das Vokalensemble Canto Vivace aus Forstern mit italienischen Opernklassikern.\n\nhttps://eventfrog.at/de/p/klassik-opern/oper-operette/notte-italiana-klassik-am-sportpark-schollbach-7451593337860030527.html
LOCATION:Sportpark Schollbach
GEO:48.305807;11.932828
URL:https://eventfrog.at/de/p/klassik-opern/oper-operette/notte-italiana-klassik-am-sportpark-schollbach-7451593337860030527.html
END:VEVENT
END:VCALENDAR