BEGIN:VCALENDAR
VERSION:2.0
PRODID:EVENTFROG//EVENT//ICAL
BEGIN:VEVENT
UID:20260424T072659Z-7451592246653108024@eventfrog.at
DTSTAMP:20260424T072659Z
DTSTART:20260815T173000Z
DTEND:20260815T210000Z
SUMMARY:War On Women
DESCRIPTION:...\n\nhttps://eventfrog.at/de/p/konzerte/punk/war-on-women-7451592246653108024.html
LOCATION:Dynamo Werk21
GEO:47.383401;8.539382
URL:https://eventfrog.at/de/p/konzerte/punk/war-on-women-7451592246653108024.html
END:VEVENT
END:VCALENDAR