BEGIN:VCALENDAR
VERSION:2.0
PRODID:EVENTFROG//EVENT//ICAL
BEGIN:VEVENT
UID:20260422T192630Z-7451590062406384149@eventfrog.at
DTSTAMP:20260422T192630Z
DTSTART:20261018T160000Z
DTEND:20261018T200000Z
SUMMARY:Das perfekte ABBA Dinner Hornbach – Duo Show , Mädelsabend
DESCRIPTION:Am 6.12. sorgt die ABBA Duo Show im Kloster Hornbach mit Live-Musik und Dinner für einen emotionalen Abend voller Hits und Humor.\n\nhttps://eventfrog.at/de/p/musicals-shows/show/das-perfekte-abba-dinner-hornbach-duo-show-maedelsabend-7451590062406384149.html
LOCATION:Kloster Hornbach
GEO:49.186596;7.369666
URL:https://eventfrog.at/de/p/musicals-shows/show/das-perfekte-abba-dinner-hornbach-duo-show-maedelsabend-7451590062406384149.html
END:VEVENT
END:VCALENDAR