BEGIN:VCALENDAR
VERSION:2.0
PRODID:EVENTFROG//EVENT//ICAL
BEGIN:VEVENT
UID:20260421T191917Z-7451588697466607373@eventfrog.at
DTSTAMP:20260421T191917Z
DTSTART:20261206T170000Z
DTEND:20261206T210000Z
SUMMARY:Das perfekte ABBA Dinner Hornbach – Duo Show , Mädelsabend
DESCRIPTION:Die ABBA-Duo-Show im Kloster Hornbach bietet am 6.12. ab 18:30 Uhr ein Dinner mit Live-Hits und viel Charme.\n\nhttps://eventfrog.at/de/p/konzerte/pop-rock/das-perfekte-abba-dinner-hornbach-duo-show-maedelsabend-7451588697466607373.html
LOCATION:Kloster Hornbach
GEO:49.186596;7.369666
URL:https://eventfrog.at/de/p/konzerte/pop-rock/das-perfekte-abba-dinner-hornbach-duo-show-maedelsabend-7451588697466607373.html
END:VEVENT
END:VCALENDAR