BEGIN:VCALENDAR
VERSION:2.0
PRODID:EVENTFROG//EVENT//ICAL
BEGIN:VEVENT
UID:20260419T193338Z-7451568641051508717@eventfrog.at
DTSTAMP:20260419T193338Z
DTSTART:20260505T123000Z
DTEND:20260505T133000Z
SUMMARY:Schnapp dir den Rollator und komm zum Rollatorsport
DESCRIPTION:Rollatorkurse zur Sturzprävention und Lebensqualitätssteigerung ohne Altersbegrenzung, montags 14:30 Uhr, dienstags 10:00 Uhr.\n\nhttps://eventfrog.at/de/p/gesundheit-spiritualitaet/gesundheit-wohlbefinden/schnapp-dir-den-rollator-und-komm-zum-rollatorsport-7451568641051508717.html
LOCATION:Rollatorsport
GEO:51.541280;9.915803
URL:https://eventfrog.at/de/p/gesundheit-spiritualitaet/gesundheit-wohlbefinden/schnapp-dir-den-rollator-und-komm-zum-rollatorsport-7451568641051508717.html
END:VEVENT
END:VCALENDAR