BEGIN:VCALENDAR
VERSION:2.0
PRODID:EVENTFROG//EVENT//ICAL
BEGIN:VEVENT
UID:20260419T212847Z-7451555710012292868@eventfrog.at
DTSTAMP:20260419T212847Z
DTSTART:20260606T080000Z
DTEND:20260606T100000Z
SUMMARY:Silberschmuck-Workshop mit Mandulan Silberschmuck
DESCRIPTION:Silberschmuck-Workshop\n\nhttps://eventfrog.at/de/p/kunst-ausstellungen/kultur/silberschmuck-workshop-mit-mandulan-silberschmuck-7451555710012292868.html
LOCATION:Art'Café Liebefeld
GEO:46.932875;7.422809
URL:https://eventfrog.at/de/p/kunst-ausstellungen/kultur/silberschmuck-workshop-mit-mandulan-silberschmuck-7451555710012292868.html
END:VEVENT
END:VCALENDAR