BEGIN:VCALENDAR
VERSION:2.0
PRODID:EVENTFROG//EVENT//ICAL
BEGIN:VEVENT
UID:20260421T191749Z-7451550154178440275@eventfrog.at
DTSTAMP:20260421T191749Z
DTSTART:20270227T180000Z
DTEND:20270227T220000Z
SUMMARY:Das perfekte ABBA Dinner Neufahrn – Live Show & Musik
DESCRIPTION:Im Schlosshotel Neufahrn erleben Gäste ein interaktives ABBA-Dinner mit Live-Hits, Geschichten und viel Nähe zum Publikum.\n\nhttps://eventfrog.at/de/p/konzerte/pop-rock/das-perfekte-abba-dinner-neufahrn-live-show-musik-7451550154178440275.html
LOCATION:Schlosshotel Neufahrn
GEO:48.737307;12.190025
URL:https://eventfrog.at/de/p/konzerte/pop-rock/das-perfekte-abba-dinner-neufahrn-live-show-musik-7451550154178440275.html
END:VEVENT
END:VCALENDAR