BEGIN:VCALENDAR
VERSION:2.0
PRODID:EVENTFROG//EVENT//ICAL
BEGIN:VEVENT
UID:20260419T183857Z-7451392940398656103@eventfrog.at
DTSTAMP:20260419T183857Z
DTSTART:20260808T174500Z
DTEND:20260808T220000Z
SUMMARY:Kreuzlinger Seenachtsfest
DESCRIPTION:Kreuzlinger Seenachtsfest\n\nhttps://eventfrog.at/de/p/volksfeste/kreuzlinger-seenachtsfest-7451392940398656103.html
LOCATION:Schweizerische Bodensee-Schifffahrt AG
GEO:47.564596;9.380165
URL:https://eventfrog.at/de/p/volksfeste/kreuzlinger-seenachtsfest-7451392940398656103.html
END:VEVENT
END:VCALENDAR