BEGIN:VCALENDAR
VERSION:2.0
PRODID:EVENTFROG//EVENT//ICAL
BEGIN:VEVENT
UID:20260425T203741Z-7451392938821597729@eventfrog.at
DTSTAMP:20260425T203741Z
DTSTART:20260509T090000Z
SUMMARY:19. Konstanzer Jazzgipfel
DESCRIPTION:Mit den Bands von 5 Konstanzer Schulen.\n\nhttps://eventfrog.at/de/p/konzerte/19-konstanzer-jazzgipfel-7451392938821597729.html
LOCATION:BODENSEEFORUM KONSTANZ
GEO:47.671433;9.166143
URL:https://eventfrog.at/de/p/konzerte/19-konstanzer-jazzgipfel-7451392938821597729.html
END:VEVENT
END:VCALENDAR