BEGIN:VCALENDAR
VERSION:2.0
PRODID:EVENTFROG//EVENT//ICAL
BEGIN:VEVENT
UID:20260420T021313Z-7451391823308715631@eventfrog.at
DTSTAMP:20260420T021313Z
DTSTART:20261111T180000Z
SUMMARY:UnSichtbar Mike Allenspach
DESCRIPTION:Mike Allenspach\n\nhttps://eventfrog.at/de/p/theater-buehne/unsichtbar-mike-allenspach-7451391823308715631.html
LOCATION:fabriggli, werdenberger kleintheater
GEO:47.162967;9.471131
URL:https://eventfrog.at/de/p/theater-buehne/unsichtbar-mike-allenspach-7451391823308715631.html
END:VEVENT
END:VCALENDAR