BEGIN:VCALENDAR
VERSION:2.0
PRODID:EVENTFROG//EVENT//ICAL
BEGIN:VEVENT
UID:20260424T072729Z-7451390639269251018@eventfrog.at
DTSTAMP:20260424T072729Z
DTSTART:20260507T173000Z
SUMMARY:Frauenstammtisch Plus…
DESCRIPTION:Zum klönen, diskutieren, lachen.\n\nhttps://eventfrog.at/de/p/diverses/frauenstammtisch-plus-7451390639269251018.html
LOCATION:Belladonna – Frauen und Kultur e.V.
GEO:47.677981;9.173674
URL:https://eventfrog.at/de/p/diverses/frauenstammtisch-plus-7451390639269251018.html
END:VEVENT
END:VCALENDAR