BEGIN:VCALENDAR
VERSION:2.0
PRODID:EVENTFROG//EVENT//ICAL
BEGIN:VEVENT
UID:20260424T061320Z-7451390454942196823@eventfrog.at
DTSTAMP:20260424T061320Z
DTSTART:20260424T180000Z
SUMMARY:Musikwoche im Grand Resort Bad Ragaz - Junge Talente verzaub
DESCRIPTION:Musikwoche im Grand Resort Bad Ragaz - Junge Talente verzaubern mit Virtuosität\n\nhttps://eventfrog.at/de/p/konzerte/musikwoche-im-grand-resort-bad-ragaz-junge-talente-verzaub-7451390454942196823.html
LOCATION:Grand Resort Bad Ragaz
GEO:47.000427;9.503710
URL:https://eventfrog.at/de/p/konzerte/musikwoche-im-grand-resort-bad-ragaz-junge-talente-verzaub-7451390454942196823.html
END:VEVENT
END:VCALENDAR