BEGIN:VCALENDAR
VERSION:2.0
PRODID:EVENTFROG//EVENT//ICAL
BEGIN:VEVENT
UID:20260424T215212Z-7451390193012113300@eventfrog.at
DTSTAMP:20260424T215212Z
DTSTART:20260508T180000Z
SUMMARY:Podium 84 – Der Weltuntergang
DESCRIPTION:Ein Theaterstück von Jura Soyfer.\n\nhttps://eventfrog.at/de/p/theater-buehne/podium-84-der-weltuntergang-7451390193012113300.html
LOCATION:Zeughaus Lindau e.V.
GEO:47.547360;9.682140
URL:https://eventfrog.at/de/p/theater-buehne/podium-84-der-weltuntergang-7451390193012113300.html
END:VEVENT
END:VCALENDAR