BEGIN:VCALENDAR
VERSION:2.0
PRODID:EVENTFROG//EVENT//ICAL
BEGIN:VEVENT
UID:20260424T214357Z-7451389864325418400@eventfrog.at
DTSTAMP:20260424T214357Z
DTSTART:20260605T180000Z
SUMMARY:Nessi Tausendschön
DESCRIPTION:Nessi Tausendschön\n\nhttps://eventfrog.at/de/p/konzerte/nessi-tausendschoen-7451389864325418400.html
LOCATION:Casinotheater
GEO:47.499716;8.726641
URL:https://eventfrog.at/de/p/konzerte/nessi-tausendschoen-7451389864325418400.html
END:VEVENT
END:VCALENDAR