BEGIN:VCALENDAR
VERSION:2.0
PRODID:EVENTFROG//EVENT//ICAL
BEGIN:VEVENT
UID:20260420T070428Z-7451374213150039430@eventfrog.at
DTSTAMP:20260420T070428Z
DTSTART:20260711T130000Z
DTEND:20260712T000000Z
SUMMARY:Okapi Openair 2026 - Samstag
DESCRIPTION:„E grossi Bühni für chlini Bands“\nDas Okapi Openair geht in die vierte Runde!\n\nhttps://eventfrog.at/de/p/festivals/weitere-festivals/okapi-openair-2026-samstag-7451374213150039430.html
LOCATION:Lindental Gemeinde Vechigen
GEO:46.975014;7.553851
URL:https://eventfrog.at/de/p/festivals/weitere-festivals/okapi-openair-2026-samstag-7451374213150039430.html
END:VEVENT
END:VCALENDAR