BEGIN:VCALENDAR
VERSION:2.0
PRODID:EVENTFROG//EVENT//ICAL
BEGIN:VEVENT
UID:20260420T042437Z-7451354924116352214@eventfrog.at
DTSTAMP:20260420T042437Z
DTSTART:20260425T140000Z
DTEND:20260425T163000Z
SUMMARY:Die fremde Stadt  Schauspiel von John B. Priestley
DESCRIPTION:Protagonisten aus unterschiedlichen Gruppen der Gesellschaft treffen unter mysteriösen Umständen aufeinander, die sie mit einer anternativen Sozialordnung konfrontiert.\n\nhttps://eventfrog.at/de/p/theater-buehne/theater/die-fremde-stadt-schauspiel-von-john-b-priestley-7451354924116352214.html
LOCATION:DIE kleine BÜHNE, Theatersaal der Lukasgemeinde
GEO:52.388157;9.737045
URL:https://eventfrog.at/de/p/theater-buehne/theater/die-fremde-stadt-schauspiel-von-john-b-priestley-7451354924116352214.html
END:VEVENT
END:VCALENDAR