BEGIN:VCALENDAR
VERSION:2.0
PRODID:EVENTFROG//EVENT//ICAL
BEGIN:VEVENT
UID:20260420T044629Z-7451341376313146176@eventfrog.at
DTSTAMP:20260420T044629Z
DTSTART:20261120T191500Z
DTEND:20261120T210000Z
SUMMARY:Briefwexel - Ruedi Häusermann & Albin Brun
DESCRIPTION:Ruedi Häusermann und Albin Brun verbinden Jazz und Volksmusik mit Texten zu einem heiteren Musik- und Theaterprogramm.\n\nhttps://eventfrog.at/de/p/theater-buehne/lesung/briefwexel-ruedi-haeusermann-albin-brun-7451341376313146176.html
LOCATION:Kleintheater Somehuus
GEO:47.172200;8.109910
URL:https://eventfrog.at/de/p/theater-buehne/lesung/briefwexel-ruedi-haeusermann-albin-brun-7451341376313146176.html
END:VEVENT
END:VCALENDAR