BEGIN:VCALENDAR
VERSION:2.0
PRODID:EVENTFROG//EVENT//ICAL
BEGIN:VEVENT
UID:20260420T184330Z-7451336753690976635@eventfrog.at
DTSTAMP:20260420T184330Z
DTSTART:20260422T150000Z
SUMMARY:Bierpongturnier
DESCRIPTION:Bierpongturnier im Koko. \n!!!WICHTIG!!! Ihr braucht pro Team nur ein Ticket zu kaufen. Das Turnier kostet pro Team (mit 2 Mitspielern) 20. \n\n\nhttps://eventfrog.at/de/p/partys/studentenparty/bierpongturnier-7451336753690976635.html
LOCATION:Kokolores
GEO:49.279006;9.683997
URL:https://eventfrog.at/de/p/partys/studentenparty/bierpongturnier-7451336753690976635.html
END:VEVENT
END:VCALENDAR