BEGIN:VCALENDAR
VERSION:2.0
PRODID:EVENTFROG//EVENT//ICAL
BEGIN:VEVENT
UID:20260422T182826Z-7451293797642702593@eventfrog.at
DTSTAMP:20260422T182826Z
DTSTART:20260516T160000Z
DTEND:20260516T200000Z
SUMMARY:Afterwork Art Night
DESCRIPTION:Geniesse einen entspannten Abend mit Wein, Musik, Snacks und persönlicher Malanleitung ohne Stress.\n\nhttps://eventfrog.at/de/p/kurse-seminare/freizeit-hobby/afterwork-art-night-7451293797642702593.html
LOCATION:Galerie Annette Lehrmann
GEO:49.795309;9.929515
URL:https://eventfrog.at/de/p/kurse-seminare/freizeit-hobby/afterwork-art-night-7451293797642702593.html
END:VEVENT
END:VCALENDAR