BEGIN:VCALENDAR
VERSION:2.0
PRODID:EVENTFROG//EVENT//ICAL
BEGIN:VEVENT
UID:20260421T214250Z-7451213226342135573@eventfrog.at
DTSTAMP:20260421T214250Z
DTSTART:20260602T180000Z
SUMMARY:Theaterstück - Laute Schatten
DESCRIPTION:Ein Horrorstück von Miriam Schöpf über das Akzeptieren der eigenen dunklen Seiten begleitet von atmosphärischem Gesang und Schattenspiel.\n\nhttps://eventfrog.at/de/p/theater-buehne/theater/theaterstueck-laute-schatten-7451213226342135573.html
LOCATION:Theater Moller Haus
GEO:49.867875;8.650525
URL:https://eventfrog.at/de/p/theater-buehne/theater/theaterstueck-laute-schatten-7451213226342135573.html
END:VEVENT
END:VCALENDAR