BEGIN:VCALENDAR
VERSION:2.0
PRODID:EVENTFROG//EVENT//ICAL
BEGIN:VEVENT
UID:20260421T183715Z-7451209043887059270@eventfrog.at
DTSTAMP:20260421T183715Z
DTSTART:20260606T080000Z
DTEND:20260606T160000Z
SUMMARY:MALT TAG im LOK KULTURZENTRUM JEVER
DESCRIPTION:Margit Budrich leitet am 06.06.2026 einen Malkurs von 10 bis 18 Uhr für max. 7 Personen.\n\nhttps://eventfrog.at/de/p/kurse-seminare/kunst-kultur/malt-tag-im-lok-kulturzentrum-jever-7451209043887059270.html
LOCATION:LOK Kulturzentrum Jever
GEO:53.567752;7.895716
URL:https://eventfrog.at/de/p/kurse-seminare/kunst-kultur/malt-tag-im-lok-kulturzentrum-jever-7451209043887059270.html
END:VEVENT
END:VCALENDAR