BEGIN:VCALENDAR
VERSION:2.0
PRODID:EVENTFROG//EVENT//ICAL
BEGIN:VEVENT
UID:20260420T061458Z-7451182716530218002@eventfrog.at
DTSTAMP:20260420T061458Z
DTSTART:20260425T170000Z
DTEND:20260425T190000Z
SUMMARY:circus & poetry
DESCRIPTION:Sigrid Grün, Julian Bellini und Michael Heiduk verbinden Lyrik und Artistik zu einem einzigartigen poetischen Erlebnis.\n\nhttps://eventfrog.at/de/p/theater-buehne/theater/circus-poetry-7451182716530218002.html
LOCATION:Pepe Dome
GEO:48.111973;11.643343
URL:https://eventfrog.at/de/p/theater-buehne/theater/circus-poetry-7451182716530218002.html
END:VEVENT
END:VCALENDAR