BEGIN:VCALENDAR
VERSION:2.0
PRODID:EVENTFROG//EVENT//ICAL
BEGIN:VEVENT
UID:20260422T192631Z-7451088141006433855@eventfrog.at
DTSTAMP:20260422T192631Z
DTSTART:20260606T160000Z
DTEND:20260606T203000Z
SUMMARY:666 Years of Music
DESCRIPTION:Eine Reise durch 666 Jahre Musik auf der Gitarre.\nVon Mittelalter über Barock bis zu Latin, Cumbia und Metal.\n\nhttps://eventfrog.at/de/p/konzerte/hard-rock-heavy-metal/666-years-of-music-7451088141006433855.html
LOCATION:Maya Galerie & Café ®️
GEO:54.086646;12.120161
URL:https://eventfrog.at/de/p/konzerte/hard-rock-heavy-metal/666-years-of-music-7451088141006433855.html
END:VEVENT
END:VCALENDAR