BEGIN:VCALENDAR
VERSION:2.0
PRODID:EVENTFROG//EVENT//ICAL
BEGIN:VEVENT
UID:20260424T080131Z-7451032875024008279@eventfrog.at
DTSTAMP:20260424T080131Z
DTSTART:20260521T183000Z
DTEND:20260521T203000Z
SUMMARY:Gattopardo
DESCRIPTION:Die neue Band von Mario Capitanio mit Gert Stäuble (Drums), Tom Gisler (Keys) & Peter Enderli (Bass). Italienische Songs aus der Feder von Mario Capitanio.\n\nhttps://eventfrog.at/de/p/konzerte/pop-rock/gattopardo-7451032875024008279.html
LOCATION:Bären Buchsi
GEO:47.021500;7.450800
URL:https://eventfrog.at/de/p/konzerte/pop-rock/gattopardo-7451032875024008279.html
END:VEVENT
END:VCALENDAR