BEGIN:VCALENDAR
VERSION:2.0
PRODID:EVENTFROG//EVENT//ICAL
BEGIN:VEVENT
UID:20260420T175102Z-7451031673888627850@eventfrog.at
DTSTAMP:20260420T175102Z
DTSTART:20260620T080000Z
DTEND:20260620T093000Z
SUMMARY:Schenk mir eine Geschichte -Farsi / Dari
DESCRIPTION:Kinder ab 3 Jahren mit Muttersprache Farsi in Begleitung\n\nhttps://eventfrog.at/de/p/diverses/schenk-mir-eine-geschichte-farsi-dari-7451031673888627850.html
LOCATION:tiRumpel
GEO:47.420944;9.356495
URL:https://eventfrog.at/de/p/diverses/schenk-mir-eine-geschichte-farsi-dari-7451031673888627850.html
END:VEVENT
END:VCALENDAR