BEGIN:VCALENDAR
VERSION:2.0
PRODID:EVENTFROG//EVENT//ICAL
BEGIN:VEVENT
UID:20260424T115810Z-7451031669035818013@eventfrog.at
DTSTAMP:20260424T115810Z
DTSTART:20260615T071500Z
DTEND:20260615T091500Z
SUMMARY:ElternCafé
DESCRIPTION:Spielen, austauschen, gemütliches Zusammensein\n\nhttps://eventfrog.at/de/p/diverses/elterncafe-7451031669035818013.html
LOCATION:tiRumpel
GEO:47.420944;9.356495
URL:https://eventfrog.at/de/p/diverses/elterncafe-7451031669035818013.html
END:VEVENT
END:VCALENDAR