BEGIN:VCALENDAR
VERSION:2.0
PRODID:EVENTFROG//EVENT//ICAL
BEGIN:VEVENT
UID:20260425T191818Z-7451029338793756092@eventfrog.at
DTSTAMP:20260425T191818Z
DTSTART:20260524T190000Z
SUMMARY:Da Cruz
DESCRIPTION:Da Cruz\n\nhttps://eventfrog.at/de/p/konzerte/da-cruz-7451029338793756092.html
LOCATION:Konstanz Konzertmuschel
GEO:47.662669;9.179241
URL:https://eventfrog.at/de/p/konzerte/da-cruz-7451029338793756092.html
END:VEVENT
END:VCALENDAR