BEGIN:VCALENDAR
VERSION:2.0
PRODID:EVENTFROG//EVENT//ICAL
BEGIN:VEVENT
UID:20260425T191807Z-7451029337006982272@eventfrog.at
DTSTAMP:20260425T191807Z
DTSTART:20260522T171500Z
SUMMARY:Peter aus der Mozartstraße
DESCRIPTION:Peter aus der Mozartstraße\n\nhttps://eventfrog.at/de/p/konzerte/peter-aus-der-mozartstrasse-7451029337006982272.html
LOCATION:Konstanz Konzertmuschel
GEO:47.662669;9.179241
URL:https://eventfrog.at/de/p/konzerte/peter-aus-der-mozartstrasse-7451029337006982272.html
END:VEVENT
END:VCALENDAR