BEGIN:VCALENDAR
VERSION:2.0
PRODID:EVENTFROG//EVENT//ICAL
BEGIN:VEVENT
UID:20260420T191438Z-7451029335593501789@eventfrog.at
DTSTAMP:20260420T191438Z
DTSTART:20260426T121500Z
DTEND:20260426T133000Z
SUMMARY:Öffentliche Stadtführungen Diessenhofen
DESCRIPTION:Öffentliche Stadtführungen Diessenhofen\n\nhttps://eventfrog.at/de/p/wissenschaft-und-technik/oeffentliche-stadtfuehrungen-diessenhofen-7451029335593501789.html
LOCATION:Diessenhofen
GEO:47.685735;8.758211
URL:https://eventfrog.at/de/p/wissenschaft-und-technik/oeffentliche-stadtfuehrungen-diessenhofen-7451029335593501789.html
END:VEVENT
END:VCALENDAR