BEGIN:VCALENDAR
VERSION:2.0
PRODID:EVENTFROG//EVENT//ICAL
BEGIN:VEVENT
UID:20260425T191930Z-7451027451440792294@eventfrog.at
DTSTAMP:20260425T191930Z
DTSTART:20260514T180000Z
DTEND:20260514T230000Z
SUMMARY:The Gee Strings (DE)
DESCRIPTION:The Gee Strings (DE)\n\nhttps://eventfrog.at/de/p/konzerte/the-gee-strings-de-7451027451440792294.html
LOCATION:Horstklub
GEO:47.647355;9.173559
URL:https://eventfrog.at/de/p/konzerte/the-gee-strings-de-7451027451440792294.html
END:VEVENT
END:VCALENDAR