BEGIN:VCALENDAR
VERSION:2.0
PRODID:EVENTFROG//EVENT//ICAL
BEGIN:VEVENT
UID:20260425T191929Z-7451027451088470756@eventfrog.at
DTSTAMP:20260425T191929Z
DTSTART:20260502T180000Z
DTEND:20260502T230100Z
SUMMARY:Sexschweiss (DE) + Heihaizi (HR)
DESCRIPTION:Sexschweiss (DE) + Heihaizi (HR)\n\nhttps://eventfrog.at/de/p/konzerte/sexschweiss-de-heihaizi-hr-7451027451088470756.html
LOCATION:Horstklub
GEO:47.647355;9.173559
URL:https://eventfrog.at/de/p/konzerte/sexschweiss-de-heihaizi-hr-7451027451088470756.html
END:VEVENT
END:VCALENDAR