BEGIN:VCALENDAR
VERSION:2.0
PRODID:EVENTFROG//EVENT//ICAL
BEGIN:VEVENT
UID:20260424T072704Z-7451027450916504290@eventfrog.at
DTSTAMP:20260424T072704Z
DTSTART:20260501T180000Z
DTEND:20260501T230000Z
SUMMARY:Das Beat (DE) + Sensitive Content (GR) + Der Bürokrat (IT)
DESCRIPTION:Das Beat (DE) + Sensitive Content (GR) + Der Bürokrat (IT)\n\nhttps://eventfrog.at/de/p/konzerte/das-beat-de-sensitive-content-gr-der-buerokrat-it-7451027450916504290.html
LOCATION:Horstklub
GEO:47.647355;9.173559
URL:https://eventfrog.at/de/p/konzerte/das-beat-de-sensitive-content-gr-der-buerokrat-it-7451027450916504290.html
END:VEVENT
END:VCALENDAR