BEGIN:VCALENDAR
VERSION:2.0
PRODID:EVENTFROG//EVENT//ICAL
BEGIN:VEVENT
UID:20260424T072717Z-7451012792784529218@eventfrog.at
DTSTAMP:20260424T072717Z
DTSTART:20260612T210000Z
DTEND:20260613T020000Z
SUMMARY:Afterparty Latin Sunset Festival 2026 - AURA Club
DESCRIPTION:Die Latin Sunset Festival Afterparty am 12. Juni 2026 bringt Reggaeton und Urban Sounds bis frühmorgens in den AURA CLUB Zürich.\n\nhttps://eventfrog.at/de/p/partys/latin-brasil/afterparty-latin-sunset-festival-2026-aura-club-7451012792784529218.html
LOCATION:AURA
GEO:47.368663;8.537953
URL:https://eventfrog.at/de/p/partys/latin-brasil/afterparty-latin-sunset-festival-2026-aura-club-7451012792784529218.html
END:VEVENT
END:VCALENDAR